BEGIN:VCALENDAR
VERSION:2.0
PRODID:-//NPO縁 - ECPv4.2.2//NONSGML v1.0//EN
CALSCALE:GREGORIAN
METHOD:PUBLISH
X-WR-CALNAME:NPO縁
X-ORIGINAL-URL:http://www.npo-en.jp
X-WR-CALDESC:Events for NPO縁
BEGIN:VEVENT
DTSTART;TZID=Asia/Tokyo:20170702T103000
DTEND;TZID=Asia/Tokyo:20170702T120000
DTSTAMP:20260422T051810
CREATED:20170602T055026
LAST-MODIFIED:20170602T055026
UID:1082-1498991400-1498996800@www.npo-en.jp
SUMMARY:クリーン婚活
DESCRIPTION:蕪島周辺をボランティア活動でゴミ拾いをしながら、男女の交流を深めましょう。\n\n参加対象者　　３０代～４０代の独身の男女\n男性　８名　　女性　８名\n集合場所　　　蕪島海水浴場側駐車場\n\n軍手、トング、ゴミ袋は用意してあります。\n\n※　当日、雨天の場合、翌週７/９（日）に変更になります。
URL:http://www.npo-en.jp/event/%e3%82%af%e3%83%aa%e3%83%bc%e3%83%b3%e5%a9%9a%e6%b4%bb/
LOCATION:大字鮫町字鮫56-2\, 八戸市\, 青森県\, 031-0841
GEO:40.5385774;141.5575819
X-APPLE-STRUCTURED-LOCATION;VALUE=URI;X-ADDRESS=大字鮫町字鮫56-2 八戸市 青森県 031-0841;X-APPLE-RADIUS=500;X-TITLE=大字鮫町字鮫56-2:geo:141.5575819,40.5385774
ATTACH;FMTTYPE=image/jpeg:http://www.npo-en.jp/wp-content/uploads/e89f9a940a56f7bcd4506ae6f7c9496c_s.jpg
END:VEVENT
END:VCALENDAR