BEGIN:VCALENDAR
VERSION:2.0
PRODID:-//NPO縁 - ECPv4.2.2//NONSGML v1.0//EN
CALSCALE:GREGORIAN
METHOD:PUBLISH
X-WR-CALNAME:NPO縁
X-ORIGINAL-URL:http://www.npo-en.jp
X-WR-CALDESC:Events for NPO縁
BEGIN:VEVENT
DTSTART;TZID=Asia/Tokyo:20170521T133000
DTEND;TZID=Asia/Tokyo:20170521T153000
DTSTAMP:20260422T101951
CREATED:20170407T213749
LAST-MODIFIED:20170425T065208
UID:1066-1495373400-1495380600@www.npo-en.jp
SUMMARY:個性心理学による恋愛講座
DESCRIPTION:婚活中で結婚したいのに出会いがないとお悩みの方、異性と話すことが出来ない方などの為の「新しい自分の人生を作る理想的な異性」に近づく為のセミナーになります。\n\n講師はメンタルトレーナーの佐藤正則氏。\n\n講師プロフィール\n\n有限会社青森ヘルシー産業代表取締役社長\n\n株式会社トレックス　顧問\n\n温泉高度利用活用研究会　顧問\n\n一流スポーツ選手メンタルトレーナー\n\n \n\n主な実績\n\n各一流スポーツメンタルトレーナー、　株式会社フェロー　メンタルトレーナー、　株式会社トムメディック　メンタルトレーナー、その他、数多くのトレーナーを行っている。（子育て支援、人間関係など）\n\n講演依頼企業団体様\n\n（全日本カーリング・チーム青森、ＧＥヘルスケアジャパン仙台支社、経済産業省委託事業しんきん地域力連帯拠点、エフエム青森（動物占い放送）、トムメディック、介護施設ミント、青森県立保健大学、（株）芳香園、モイスティーヌ（コピン）、青森支部獣医医師会、（株）タカシン、（株）トレックス、（株）ＮＩＫＫＮ、（株）フェロー、学校、保育園、美容室、その他）\n\n \n\n参加募集人数は５名です。\n\nセミナー終了後、２名様限定で無料相談会を実施いたします。\n\n \n\n \n\n 
URL:http://www.npo-en.jp/event/%e5%80%8b%e6%80%a7%e5%bf%83%e7%90%86%e5%ad%a6%e3%81%ab%e3%82%88%e3%82%8b%e6%81%8b%e6%84%9b%e8%ac%9b%e5%ba%a7/
LOCATION:根城８丁目８－１５５\, 八戸市\, 青森県\, ０３９－１１６６
GEO:40.503504;141.4650656
X-APPLE-STRUCTURED-LOCATION;VALUE=URI;X-ADDRESS=根城８丁目８－１５５ 八戸市 青森県 ０３９－１１６６;X-APPLE-RADIUS=500;X-TITLE=根城８丁目８－１５５:geo:141.4650656,40.503504
ATTACH;FMTTYPE=image/jpeg:http://www.npo-en.jp/wp-content/uploads/48db2bd79c94a72e3ce38b9493dc6295_s-e1529553535156.jpg
END:VEVENT
END:VCALENDAR