BEGIN:VCALENDAR
VERSION:2.0
PRODID:-//NPO縁 - ECPv4.2.2//NONSGML v1.0//EN
CALSCALE:GREGORIAN
METHOD:PUBLISH
X-WR-CALNAME:NPO縁
X-ORIGINAL-URL:http://www.npo-en.jp
X-WR-CALDESC:Events for NPO縁
BEGIN:VEVENT
DTSTART;TZID=Asia/Tokyo:20170917T140000
DTEND;TZID=Asia/Tokyo:20170917T153000
DTSTAMP:20260421T201522
CREATED:20170627T193528
LAST-MODIFIED:20170912T011239
UID:1100-1505656800-1505662200@www.npo-en.jp
SUMMARY:第２回　４０歳からの～婚活「縁結び♥」
DESCRIPTION:４０代の独身男女の方が対象です。\n\n自分のＰＲをしながら、参加者全員とお話して頂きます。\n\nお茶を飲みながらの和やかな雰囲気の婚活イベントです。（お菓子付き）\n\n \n\n参加人数が男性、女性ともに５名のみたない場合は中止になります。\n\n \n\n※お車でお越しの方へ。\n\n会館裏手は休日診療所の駐車場となっております。急患診療の妨げのなりますので、「長坂公園」横の駐車場へおねがい致します。
URL:http://www.npo-en.jp/event/%e7%ac%ac%ef%bc%92%e5%9b%9e%e3%80%8040%e6%ad%b3%ef%bd%9e%e3%81%ae%e5%a9%9a%e6%b4%bb%e3%80%8c%e7%b8%81%e7%b5%90%e3%81%b3%e2%99%a5%e3%80%8d/
LOCATION:根城８丁目８－１５５\, 八戸市\, 青森県\, ０３９－１１６６
GEO:40.503504;141.4650656
X-APPLE-STRUCTURED-LOCATION;VALUE=URI;X-ADDRESS=根城８丁目８－１５５ 八戸市 青森県 ０３９－１１６６;X-APPLE-RADIUS=500;X-TITLE=根城８丁目８－１５５:geo:141.4650656,40.503504
ATTACH;FMTTYPE=image/jpeg:http://www.npo-en.jp/wp-content/uploads/09177d7f18a7b827ac5d95878d3db2f9_s.jpg
END:VEVENT
END:VCALENDAR